BEGIN:VCALENDAR
VERSION:2.0
PRODID:SchoolNow
CALSCALE:GREGORIAN
BEGIN:VEVENT
UID:4a63ea80-2c4f-11f1-b75a-0a58a9feac02
DTSTAMP:20260330T154408Z
SUMMARY:CDD Board Meeting - Aug. 2025
LOCATION:the SpringHill Suites by Marriott Tampa Suncoast Parkway located a
 t 16615 Crosspointe Run\, Land O'Lakes\, FL 34648
URL;VALUE=URI:https://www.tworiversnorthcdd.com/calendar/8957847/cdd-board-
 meeting-aug-2025
DTSTART:20250819T150000Z
DTEND:20250819T160000Z
ATTACH;FILENAME=2025-08-19 TRN Agenda.pdf;FMTTYPE=application/pdf:https://c
 ampussuite-storage.s3.amazonaws.com/prod/1559292/5b72e9d8-ba5e-11f0-b55d-0
 e33ce6fd91d/3036813/92b573b4-bfdd-11f0-9f79-0affd0ed08b3/file/2025-08-19 T
 RN Agenda.pdf
END:VEVENT
END:VCALENDAR
