BEGIN:VCALENDAR
VERSION:2.0
PRODID:SchoolNow
CALSCALE:GREGORIAN
BEGIN:VEVENT
UID:25058d02-2c4f-11f1-a971-0a58a9feac02
DTSTAMP:20260330T154306Z
SUMMARY:CDD Board Meeting - Jul. 2025
LOCATION:the SpringHill Suites by Marriott Tampa Suncoast Parkway located a
 t 16615 Crosspointe Run\, Land O'Lakes\, FL 34648
URL;VALUE=URI:https://www.tworiversnorthcdd.com/calendar/8957846/cdd-board-
 meeting-jul-2025
DTSTART:20250715T150000Z
DTEND:20250715T160000Z
ATTACH;FILENAME=2025-07-15 TRN Agenda.pdf;FMTTYPE=application/pdf:https://c
 ampussuite-storage.s3.amazonaws.com/prod/1559292/5b72e9d8-ba5e-11f0-b55d-0
 e33ce6fd91d/3036811/92b570e4-bfdd-11f0-b446-0affd0ed08b3/file/2025-07-15 T
 RN Agenda.pdf
END:VEVENT
END:VCALENDAR
