BEGIN:VCALENDAR
VERSION:2.0
PRODID:SchoolNow
CALSCALE:GREGORIAN
BEGIN:VEVENT
UID:0c029912-2c4f-11f1-b4b5-0a58a9feac02
DTSTAMP:20260330T154224Z
SUMMARY:CDD Board Meeting - Jun. 2025
LOCATION:the SpringHill Suites by Marriott Tampa Suncoast Parkway located a
 t 16615 Crosspointe Run\, Land O'Lakes\, FL 34648
URL;VALUE=URI:https://www.tworiversnorthcdd.com/calendar/8957845/cdd-board-
 meeting-jun-2025
DTSTART:20250617T150000Z
DTEND:20250617T160000Z
ATTACH;FILENAME=2025-06-17 TRN Agenda.pdf;FMTTYPE=application/pdf:https://c
 ampussuite-storage.s3.amazonaws.com/prod/1559292/5b72e9d8-ba5e-11f0-b55d-0
 e33ce6fd91d/3036810/92b56fa4-bfdd-11f0-a711-0affd0ed08b3/file/2025-06-17 T
 RN Agenda.pdf
END:VEVENT
END:VCALENDAR
