BEGIN:VCALENDAR
VERSION:2.0
PRODID:SchoolNow
CALSCALE:GREGORIAN
BEGIN:VEVENT
UID:e4f87f58-2c4e-11f1-97b5-0a58a9feac02
DTSTAMP:20260330T154118Z
SUMMARY:CDD Board Meeting - May 2025
LOCATION:the SpringHill Suites by Marriott Tampa Suncoast Parkway located a
 t 16615 Crosspointe Run\, Land O'Lakes\, FL 34648
URL;VALUE=URI:https://www.tworiversnorthcdd.com/calendar/8957844/cdd-board-
 meeting-may-2025
DTSTART:20250520T150000Z
DTEND:20250520T160000Z
ATTACH;FILENAME=2025-05-20 TRN Agenda.pdf;FMTTYPE=application/pdf:https://c
 ampussuite-storage.s3.amazonaws.com/prod/1559292/5b72e9d8-ba5e-11f0-b55d-0
 e33ce6fd91d/3036809/92b56e50-bfdd-11f0-af7f-0affd0ed08b3/file/2025-05-20 T
 RN Agenda.pdf
END:VEVENT
END:VCALENDAR
