BEGIN:VCALENDAR
VERSION:2.0
PRODID:SchoolNow
CALSCALE:GREGORIAN
BEGIN:VEVENT
UID:cc007708-2c4e-11f1-a500-0afff963552b
DTSTAMP:20260330T154036Z
SUMMARY:CDD Board Meeting - Apr. 2025
LOCATION:the SpringHill Suites by Marriott Tampa Suncoast Parkway located a
 t 16615 Crosspointe Run\, Land O'Lakes\, FL 34648
URL;VALUE=URI:https://www.tworiversnorthcdd.com/calendar/8957843/cdd-board-
 meeting-apr-2025
DTSTART:20250415T150000Z
DTEND:20250415T160000Z
ATTACH;FILENAME=2025-04-15 TRN Agenda.pdf;FMTTYPE=application/pdf:https://c
 ampussuite-storage.s3.amazonaws.com/prod/1559292/5b72e9d8-ba5e-11f0-b55d-0
 e33ce6fd91d/3036808/92b56d06-bfdd-11f0-aba9-0affd0ed08b3/file/2025-04-15 T
 RN Agenda.pdf
END:VEVENT
END:VCALENDAR
