BEGIN:VCALENDAR
VERSION:2.0
PRODID:SchoolNow
CALSCALE:GREGORIAN
BEGIN:VEVENT
UID:71fe1ce2-c58d-11f0-884b-0afff9ea838f
DTSTAMP:20251119T211934Z
SUMMARY:CDD Board Meeting - Jul. 2026
LOCATION:the SpringHill Suites by Marriott Tampa Suncoast Parkway located a
 t 16615 Crosspointe Run\, Land O'Lakes\, FL 34648
URL;VALUE=URI:https://www.tworiversnorthcdd.com/calendar/8804366/cdd-board-
 meeting-jul-2026
DTSTART:20260721T150000Z
DTEND:20260721T160000Z
END:VEVENT
END:VCALENDAR
