BEGIN:VCALENDAR
VERSION:2.0
PRODID:SchoolNow
CALSCALE:GREGORIAN
BEGIN:VEVENT
UID:69108dd6-c58d-11f0-9378-0a58a9feac02
DTSTAMP:20251119T211919Z
SUMMARY:CDD Board Meeting - Jun. 2026
LOCATION:the SpringHill Suites by Marriott Tampa Suncoast Parkway located a
 t 16615 Crosspointe Run\, Land O'Lakes\, FL 34648
URL;VALUE=URI:https://www.tworiversnorthcdd.com/calendar/8804365/cdd-board-
 meeting-jun-2026
DTSTART:20260616T150000Z
DTEND:20260616T160000Z
END:VEVENT
END:VCALENDAR
