BEGIN:VCALENDAR
VERSION:2.0
PRODID:SchoolNow
CALSCALE:GREGORIAN
BEGIN:VEVENT
UID:5ff19a24-c58d-11f0-be56-0a58a9feac02
DTSTAMP:20251119T211903Z
SUMMARY:CDD Board Meeting - May 2026
LOCATION:the SpringHill Suites by Marriott Tampa Suncoast Parkway located a
 t 16615 Crosspointe Run\, Land O'Lakes\, FL 34648
URL;VALUE=URI:https://www.tworiversnorthcdd.com/calendar/8804364/cdd-board-
 meeting-may-2026
DTSTART:20260519T150000Z
DTEND:20260519T160000Z
END:VEVENT
END:VCALENDAR
