BEGIN:VCALENDAR
VERSION:2.0
PRODID:SchoolNow
CALSCALE:GREGORIAN
BEGIN:VEVENT
UID:4d77e90c-c58d-11f0-b1ed-0e23de79efab
DTSTAMP:20260325T173352Z
SUMMARY:CDD Board Meeting - Mar. 2026
LOCATION:the SpringHill Suites by Marriott Tampa Suncoast Parkway located a
 t 16615 Crosspointe Run\, Land O'Lakes\, FL 34648
URL;VALUE=URI:https://www.tworiversnorthcdd.com/calendar/8804362/cdd-board-
 meeting-mar-2026
DTSTART:20260317T150000Z
DTEND:20260317T160000Z
ATTACH;FILENAME=2026-03-17 TRN Agenda.pdf;FMTTYPE=application/pdf:https://c
 ampussuite-storage.s3.amazonaws.com/prod/1559292/5b72e9d8-ba5e-11f0-b55d-0
 e33ce6fd91d/3083364/85c59fde-2870-11f1-86f7-0a58a9feac02/file/2026-03-17 T
 RN Agenda.pdf
END:VEVENT
END:VCALENDAR
