BEGIN:VCALENDAR
VERSION:2.0
PRODID:SchoolNow
CALSCALE:GREGORIAN
BEGIN:VEVENT
UID:332402f2-c58d-11f0-84c0-0a58a9feac02
DTSTAMP:20260325T173332Z
SUMMARY:CDD Board Meeting - Feb. 2026
LOCATION:the SpringHill Suites by Marriott Tampa Suncoast Parkway located a
 t 16615 Crosspointe Run\, Land O'Lakes\, FL 34648
URL;VALUE=URI:https://www.tworiversnorthcdd.com/calendar/8804361/cdd-board-
 meeting-feb-2026
DTSTART:20260217T160000Z
DTEND:20260217T170000Z
ATTACH;FILENAME=2026-02-17 TRN Agenda.pdf;FMTTYPE=application/pdf:https://c
 ampussuite-storage.s3.amazonaws.com/prod/1559292/5b72e9d8-ba5e-11f0-b55d-0
 e33ce6fd91d/3083366/85c60c26-2870-11f1-84c3-0a58a9feac02/file/2026-02-17 T
 RN Agenda.pdf
END:VEVENT
END:VCALENDAR
