BEGIN:VCALENDAR
VERSION:2.0
PRODID:SchoolNow
CALSCALE:GREGORIAN
BEGIN:VEVENT
UID:324285b6-c58d-11f0-b8b7-02343ccddbd9
DTSTAMP:20260325T173315Z
SUMMARY:CDD Board Meeting - Jan. 2026
LOCATION:the SpringHill Suites by Marriott Tampa Suncoast Parkway located a
 t 16615 Crosspointe Run\, Land O'Lakes\, FL 34648
URL;VALUE=URI:https://www.tworiversnorthcdd.com/calendar/8804360/cdd-board-
 meeting-jan-2026
DTSTART:20260120T160000Z
DTEND:20260120T170000Z
ATTACH;FILENAME=2026-01-20 TRN Agenda.pdf;FMTTYPE=application/pdf:https://c
 ampussuite-storage.s3.amazonaws.com/prod/1559292/5b72e9d8-ba5e-11f0-b55d-0
 e33ce6fd91d/3083367/85c60d70-2870-11f1-89dc-0a58a9feac02/file/2026-01-20 T
 RN Agenda.pdf
END:VEVENT
END:VCALENDAR
