BEGIN:VCALENDAR
VERSION:2.0
PRODID:SchoolNow
CALSCALE:GREGORIAN
BEGIN:VEVENT
UID:2337cd1a-c58d-11f0-9c6d-0e23e915d72f
DTSTAMP:20260325T173300Z
SUMMARY:CDD Board Meeting - Dec. 2025
LOCATION:the SpringHill Suites by Marriott Tampa Suncoast Parkway located a
 t 16615 Crosspointe Run\, Land O'Lakes\, FL 34648
URL;VALUE=URI:https://www.tworiversnorthcdd.com/calendar/8804359/cdd-board-
 meeting-dec-2025
DTSTART:20251216T160000Z
DTEND:20251216T170000Z
ATTACH;FILENAME=2025-12-16 TRN Agenda.pdf;FMTTYPE=application/pdf:https://c
 ampussuite-storage.s3.amazonaws.com/prod/1559292/5b72e9d8-ba5e-11f0-b55d-0
 e33ce6fd91d/3083365/85c608ac-2870-11f1-8d0b-0a58a9feac02/file/2025-12-16 T
 RN Agenda.pdf
END:VEVENT
END:VCALENDAR
