BEGIN:VCALENDAR
VERSION:2.0
PRODID:SchoolNow
CALSCALE:GREGORIAN
BEGIN:VEVENT
UID:190a2680-c58d-11f0-9238-0a58a9feac02
DTSTAMP:20251120T022010Z
SUMMARY:Landowner's Election & Regular Meeting - Nov. 2025
LOCATION:the SpringHill Suites by Marriott Tampa Suncoast Parkway located a
 t 16615 Crosspointe Run\, Land O'Lakes\, FL 34648
URL;VALUE=URI:https://www.tworiversnorthcdd.com/calendar/8804358/landowners
 -election-regular-meeting-nov-2025
DTSTART:20251118T160000Z
DTEND:20251118T170000Z
ATTACH;FILENAME=2025-11-18 TRN Agenda.pdf;FMTTYPE=application/pdf:https://c
 ampussuite-storage.s3.amazonaws.com/prod/1559292/5b72e9d8-ba5e-11f0-b55d-0
 e33ce6fd91d/3041799/534df72a-c5b7-11f0-8e64-02343ccddbd9/file/2025-11-18 T
 RN Agenda.pdf
END:VEVENT
END:VCALENDAR
