BEGIN:VCALENDAR
VERSION:2.0
PRODID:SchoolNow
CALSCALE:GREGORIAN
BEGIN:VEVENT
UID:0187e010-c58d-11f0-aab9-02a24fa18703
DTSTAMP:20251120T022153Z
SUMMARY:CDD Board Meeting - Oct. 2025
LOCATION:the SpringHill Suites by Marriott Tampa Suncoast Parkway located a
 t 16615 Crosspointe Run\, Land O'Lakes\, FL 34648
URL;VALUE=URI:https://www.tworiversnorthcdd.com/calendar/8804357/cdd-board-
 meeting-oct-2025
DTSTART:20251021T150000Z
DTEND:20251021T160000Z
ATTACH;FILENAME=2025-10-21 TRN Agenda.pdf;FMTTYPE=application/pdf:https://c
 ampussuite-storage.s3.amazonaws.com/prod/1559292/5b72e9d8-ba5e-11f0-b55d-0
 e33ce6fd91d/3041800/9fcbb6d2-c5b7-11f0-8734-0a58a9feac02/file/2025-10-21 T
 RN Agenda.pdf
END:VEVENT
END:VCALENDAR
